BEGIN:VCALENDAR
VERSION:2.0
PRODID:-//Turnverein Altstetten - ECPv6.15.20//NONSGML v1.0//EN
CALSCALE:GREGORIAN
METHOD:PUBLISH
X-ORIGINAL-URL:https://www.tvaltstetten.ch
X-WR-CALDESC:Veranstaltungen für Turnverein Altstetten
REFRESH-INTERVAL;VALUE=DURATION:PT1H
X-Robots-Tag:noindex
X-PUBLISHED-TTL:PT1H
BEGIN:VTIMEZONE
TZID:Europe/Zurich
BEGIN:DAYLIGHT
TZOFFSETFROM:+0100
TZOFFSETTO:+0200
TZNAME:CEST
DTSTART:20250330T010000
END:DAYLIGHT
BEGIN:STANDARD
TZOFFSETFROM:+0200
TZOFFSETTO:+0100
TZNAME:CET
DTSTART:20251026T010000
END:STANDARD
BEGIN:DAYLIGHT
TZOFFSETFROM:+0100
TZOFFSETTO:+0200
TZNAME:CEST
DTSTART:20260329T010000
END:DAYLIGHT
BEGIN:STANDARD
TZOFFSETFROM:+0200
TZOFFSETTO:+0100
TZNAME:CET
DTSTART:20261025T010000
END:STANDARD
BEGIN:DAYLIGHT
TZOFFSETFROM:+0100
TZOFFSETTO:+0200
TZNAME:CEST
DTSTART:20270328T010000
END:DAYLIGHT
BEGIN:STANDARD
TZOFFSETFROM:+0200
TZOFFSETTO:+0100
TZNAME:CET
DTSTART:20271031T010000
END:STANDARD
END:VTIMEZONE
BEGIN:VEVENT
DTSTART;VALUE=DATE:20260530
DTEND;VALUE=DATE:20260531
DTSTAMP:20260421T001837
CREATED:20260201T202921Z
LAST-MODIFIED:20260409T144310Z
UID:11783-1780099200-1780185599@www.tvaltstetten.ch
SUMMARY:Regionalmeisterschaft GLZ & AZO
DESCRIPTION:Startzeiten 35+ \n10.18 Uhr Fit + Fun 1\n11.12 Uhr Fit + Fun 2\n12.54 Uhr Fit + Fun 3 \nStartzeiten Aktive \n10.42 Uhr Fachtest Unihockey\n12.12 Uhr Gymnastik\n13.36 Uhr Gerätekombination
URL:https://www.tvaltstetten.ch/event/regionalmeisterschaften-azo-glz-vereinsgeraeteturnen/
LOCATION:Sportanlage Wisacher\, Wiesackerstrasse 30\, Regensdorf\, 8105\, Switzerland
CATEGORIES:35+,Aktivriegen,Fachtest,Gymnastik,Vereinsgeräteturnen
END:VEVENT
END:VCALENDAR