BEGIN:VCALENDAR
VERSION:2.0
PRODID:-//Turnverein Altstetten - ECPv6.15.20//NONSGML v1.0//EN
CALSCALE:GREGORIAN
METHOD:PUBLISH
X-ORIGINAL-URL:https://www.tvaltstetten.ch
X-WR-CALDESC:Veranstaltungen für Turnverein Altstetten
REFRESH-INTERVAL;VALUE=DURATION:PT1H
X-Robots-Tag:noindex
X-PUBLISHED-TTL:PT1H
BEGIN:VTIMEZONE
TZID:Europe/Zurich
BEGIN:DAYLIGHT
TZOFFSETFROM:+0100
TZOFFSETTO:+0200
TZNAME:CEST
DTSTART:20250330T010000
END:DAYLIGHT
BEGIN:STANDARD
TZOFFSETFROM:+0200
TZOFFSETTO:+0100
TZNAME:CET
DTSTART:20251026T010000
END:STANDARD
BEGIN:DAYLIGHT
TZOFFSETFROM:+0100
TZOFFSETTO:+0200
TZNAME:CEST
DTSTART:20260329T010000
END:DAYLIGHT
BEGIN:STANDARD
TZOFFSETFROM:+0200
TZOFFSETTO:+0100
TZNAME:CET
DTSTART:20261025T010000
END:STANDARD
BEGIN:DAYLIGHT
TZOFFSETFROM:+0100
TZOFFSETTO:+0200
TZNAME:CEST
DTSTART:20270328T010000
END:DAYLIGHT
BEGIN:STANDARD
TZOFFSETFROM:+0200
TZOFFSETTO:+0100
TZNAME:CET
DTSTART:20271031T010000
END:STANDARD
END:VTIMEZONE
BEGIN:VEVENT
DTSTART;VALUE=DATE:20260913
DTEND;VALUE=DATE:20260914
DTSTAMP:20260421T052658
CREATED:20260201T194708Z
LAST-MODIFIED:20260201T194708Z
UID:11765-1789257600-1789343999@www.tvaltstetten.ch
SUMMARY:ZH Kantonalfinal (Q) - K5+ - Paargeräteturnen Vorbereitungswettkampf
DESCRIPTION:Wettkampfinfos\nWettkampfprogramm: https://www.ztv.ch/termine-resultate/termine \nAnreise: Bitte organisiert euch innerhalb der Gruppe und bildet Fahrgemeinschaften.\nTreffpunkt: 1 Stunde vor Wettkampfbeginn beim Eingang.\nAbmeldungen: Falls sich jemand kurzfristig (Krankheit) abmelden muss\, meldet dies bitte jeweils der jeweiligen Betreuungsperson des Wettkampfes. \nBetreuung der Kategorien\nK5A (Ti):\nK5 (Tu):\nK6 (Ti):\nK6 (Tu):\nK7 (Ti):\nK7 (Tu):\nKD/H: \nGemeldete Wertungsrichtende\nBrevet 2:
URL:https://www.tvaltstetten.ch/event/zh-kantonalfinal-q-k5-paargeraeteturnen-vorbereitungswettkampf/
LOCATION:Rafz\, Saalsporthalle Schalmenacker\, Schalmenackerwäg 2\, Rafz\, Zürich\, 8197\, Schweiz
CATEGORIES:Geräteturnen
END:VEVENT
END:VCALENDAR