BEGIN:VCALENDAR
VERSION:2.0
PRODID:-//Turnverein Altstetten - ECPv6.15.20//NONSGML v1.0//EN
CALSCALE:GREGORIAN
METHOD:PUBLISH
X-WR-CALNAME:Turnverein Altstetten
X-ORIGINAL-URL:https://www.tvaltstetten.ch
X-WR-CALDESC:Veranstaltungen für Turnverein Altstetten
REFRESH-INTERVAL;VALUE=DURATION:PT1H
X-Robots-Tag:noindex
X-PUBLISHED-TTL:PT1H
BEGIN:VTIMEZONE
TZID:Europe/Zurich
BEGIN:DAYLIGHT
TZOFFSETFROM:+0100
TZOFFSETTO:+0200
TZNAME:CEST
DTSTART:20240331T010000
END:DAYLIGHT
BEGIN:STANDARD
TZOFFSETFROM:+0200
TZOFFSETTO:+0100
TZNAME:CET
DTSTART:20241027T010000
END:STANDARD
BEGIN:DAYLIGHT
TZOFFSETFROM:+0100
TZOFFSETTO:+0200
TZNAME:CEST
DTSTART:20250330T010000
END:DAYLIGHT
BEGIN:STANDARD
TZOFFSETFROM:+0200
TZOFFSETTO:+0100
TZNAME:CET
DTSTART:20251026T010000
END:STANDARD
BEGIN:DAYLIGHT
TZOFFSETFROM:+0100
TZOFFSETTO:+0200
TZNAME:CEST
DTSTART:20260329T010000
END:DAYLIGHT
BEGIN:STANDARD
TZOFFSETFROM:+0200
TZOFFSETTO:+0100
TZNAME:CET
DTSTART:20261025T010000
END:STANDARD
END:VTIMEZONE
BEGIN:VEVENT
DTSTART;VALUE=DATE:20250830
DTEND;VALUE=DATE:20250901
DTSTAMP:20260421T094004
CREATED:20250327T194516Z
LAST-MODIFIED:20250327T200143Z
UID:10865-1756512000-1756684799@www.tvaltstetten.ch
SUMMARY:Kantonale Gerätemeisterschaften (Q) 2025 – K5-7/D/H
DESCRIPTION:Wettkampfprogramm: https://www.ztv.ch/termine-resultate/termine \nAnreise: Bitte organisiert euch innerhalb der Gruppe und bildet Fahrgemeinschaften.\nTreffpunkt: 1 Stunde vor Wettkampfbeginn beim Eingang.\nAbmeldungen: Falls sich jemand kurzfristig (Krankheit) abmelden muss\, meldet dies bitte jeweils der jeweiligen Betreuungsperson des Wettkampfes. \nBetreuung der Kategorien\nK5B (Ti):\nK5A (Ti):\nK5 (Tu):\nK6 (Ti):\nK7:\nKD: \nGemeldete Wertungsrichterinnen\nBrevet 2: (Ersatz)
URL:https://www.tvaltstetten.ch/event/kantonale-geraetemeisterschaften-q-2025-k5-7-d-h/
LOCATION:noch unbekannt
CATEGORIES:Geräteturnen
END:VEVENT
END:VCALENDAR